BEGIN:VCALENDAR
VERSION:2.0
PRODID:-//H&amp;TDA Site - ECPv6.15.18//NONSGML v1.0//EN
CALSCALE:GREGORIAN
METHOD:PUBLISH
X-WR-CALNAME:H&amp;TDA Site
X-ORIGINAL-URL:https://hatda.co.uk
X-WR-CALDESC:Events for H&amp;TDA Site
REFRESH-INTERVAL;VALUE=DURATION:PT1H
X-Robots-Tag:noindex
X-PUBLISHED-TTL:PT1H
BEGIN:VTIMEZONE
TZID:Europe/London
BEGIN:DAYLIGHT
TZOFFSETFROM:+0000
TZOFFSETTO:+0100
TZNAME:BST
DTSTART:20250330T010000
END:DAYLIGHT
BEGIN:STANDARD
TZOFFSETFROM:+0100
TZOFFSETTO:+0000
TZNAME:GMT
DTSTART:20251026T010000
END:STANDARD
BEGIN:DAYLIGHT
TZOFFSETFROM:+0000
TZOFFSETTO:+0100
TZNAME:BST
DTSTART:20260329T010000
END:DAYLIGHT
BEGIN:STANDARD
TZOFFSETFROM:+0100
TZOFFSETTO:+0000
TZNAME:GMT
DTSTART:20261025T010000
END:STANDARD
BEGIN:DAYLIGHT
TZOFFSETFROM:+0000
TZOFFSETTO:+0100
TZNAME:BST
DTSTART:20270328T010000
END:DAYLIGHT
BEGIN:STANDARD
TZOFFSETFROM:+0100
TZOFFSETTO:+0000
TZNAME:GMT
DTSTART:20271031T010000
END:STANDARD
END:VTIMEZONE
BEGIN:VEVENT
DTSTART;TZID=Europe/London:20260424T140000
DTEND;TZID=Europe/London:20260424T160000
DTSTAMP:20260424T112900
CREATED:20260219T145122Z
LAST-MODIFIED:20260220T114353Z
UID:1181-1777039200-1777046400@hatda.co.uk
SUMMARY:Garden Visit: Whixley Vicarage Garden
DESCRIPTION:Content is protected.
URL:https://hatda.co.uk/event/garden-visit-whixley-vicarage-garden/
LOCATION:Whixley Vicarage\, Church Street\, Whixley\, YO26 8AR\, United Kingdom
CATEGORIES:Garden Visit
ORGANIZER;CN="Helen Stalker":MAILTO:helenstalker@outlook.com
END:VEVENT
END:VCALENDAR